Workbook

Sheet Ene
A2: MUNICIPIO DE XALTOCAN, TLAXCALA
A3: RFC: MXT850101V45
A4: ADMINISTRACION 2024-2027
A6: CONCILIACION BANCARIA DEL MES | G6: ENERO | H6: DEL | I6: 2026
A9: BANCO: | B9: Santander | G9: SUCURSAL: | I9: APIZACO
A10: PROGRAMA: | B10: INGRESOS PROPIOS | G10: EJERCICIO: | I10: 2026
A11: FONDO: | B11: 1.01 | G11: No. DE CTA: | I11: 18000362877
A14: SALDO SEGÚN AUXILIARES | E14: 0 | G14: SALDO SEGÚN ESTADO DE CUENTA | J14: 0
C16: MAS | E16: =SUM(E17:E21) -> 0 | I16: MAS | J16: =SUM(J17:J21) -> 0
A17: DEPOSITOS BANCARIOS NO CONSIDERADOS EN AUXILIARES | G17: DEPOSITOS BANCARIOS NO CONSIDERADOS POR EL BANCO | J17: 0
G18: TRANSFERENCIA DE FFM TRANSFERENCIA DE GIM PROGRAMAS | J18: 0
C22: MENOS | E22: =SUM(E23:E119) -> 0 | I22: MENOS | J22: =SUM(J23:J25) -> 0
A23: CARGOS DEL BANCO NO CONSIDERADOS EN AUXILIARES | G23: SALDO DE OTROS PROGRAMAS
A24: COMSIONES BANCARIAS | G24: REGISTRADOS EN LA CUENTA
I26: MENOS | J26: =SUM(J27:J119) -> 259765
G27: CHEQUES EN CIRCULACIÓN
H29: 1 | I29: ONESIMO TAPIA PEREZ | K29: 2500
H30: 2 | J30: 1500
H31: 3 | J31: 5000
H32: 4 | I32: MARIA ISABEL VAZQUEZ ISLAS | K32: 5500
H33: 5 | I33: ALAN JAIR VAZQUEZ ROMERO | K33: 1800
H34: 6 | J34: 5000
H35: 7 | J35: 5000
H36: 8 | J36: 5000
H37: 9 | I37: MARGARITA CORONA GONZALEZ | K37: 2000
H38: 10 | I38: JUAN FRANCISCO MENDOZA ELIZALDE | K38: 3000
H39: 11 | I39: AURORA SEGURA MORENO | K39: 5000
H40: 12 | I40: ALEJANDRA VELAZQUEZ HERNANDEZ | K40: 4000
H41: 13 | I41: YAIR VELAZQUEZ HERNANDEZ | K41: 4500
H42: 14 | I42: GOVANNA DURAN LOPEZ | K42: 700
H43: 15 | I43: ALEJANDRO MENDIETA VAZQUEZ | K43: 3700
H44: 16 | I44: FERNANDO RIOS SANCHEZ | K44: 2700
H45: 17 | I45: VICTOR VAZQUEZ SANCHEZ | J45: 0
H46: 18 | I46: NOE HERNANDEZ GUEVARA | K46: 4050
H47: 19 | J47: 4050
H48: 20 | I48: ANTONIA MENDEZ CRUZ | K48: 5000
H49: 21 | I49: JUAN TORRES ROMERO | K49: 1800
H50: 22 | I50: ADRIANA CASTILLO JIMENEZ | K50: 5000
H51: 23 | I51: ROSA MARIA CASTILLO JIMENEZ | K51: 5000
H52: 24 | I52: JOSE GUADALUPE QUIROZ ROJAS | K52: 2000
...

Sheet Feb
A2: =+Ene!A2:J2 -> MUNICIPIO DE XALTOCAN, TLAXCALA
A3: =+Ene!A3:J3 -> RFC: MXT850101V45
A4: =+Ene!A4:J4 -> ADMINISTRACION 2024-2027
A6: CONCILIACION BANCARIA DEL MES | G6: FEBRERO | H6: DEL | I6: =+Ene!I6:J6 -> 2026
A9: BANCO: | B9: =+Ene!B9 -> Santander | G9: SUCURSAL: | I9: =+Ene!I9 -> APIZACO
A10: PROGRAMA: | B10: =+Ene!B10 -> INGRESOS PROPIOS | G10: EJERCICIO: | I10: =+Ene!I10 -> 2026
A11: FONDO: | B11: =+Ene!B11 -> 1.01 | G11: No. DE CTA: | I11: =+Ene!I11 -> 18000362877
A14: SALDO SEGÚN AUXILIARES | E14: -83106.81 | G14: SALDO SEGÚN ESTADO DE CUENTA | J14: 47255.19
C16: MAS | E16: =SUM(E17:E21) -> 0 | I16: MAS | J16: =SUM(J17:J21) -> 0
A17: DEPOSITOS BANCARIOS NO CONSIDERADOS EN AUXILIARES | G17: DEPOSITOS BANCARIOS NO CONSIDERADOS POR EL BANCO | J17: 0
G18: TRANSFERENCIA DE FFM TRANSFERENCIA DE GIM PROGRAMAS | J18: 0
C22: MENOS | E22: =SUM(E23:E29) -> 0 | I22: MENOS | J22: =SUM(J23:J25) -> 0
A23: CARGOS DEL BANCO NO CONSIDERADOS EN AUXILIARES | G23: SALDO DE OTROS PROGRAMAS
A24: COMSIONES BANCARIAS | G24: REGISTRADOS EN LA CUENTA
I26: MENOS | J26: =SUM(J27:J48) -> 0
G27: CHEQUES EN CIRCULACIÓN
A50: SUMAS IGUALES - > > > > > | E50: =SUM(E14+E16-E22) -> -83106.81 | J50: =J14+J16-J22-J26 -> 47255.19
J52: =+J50-E50 -> 130362
A54: MED. JOSE LUIS HERNANDEZ VAZQUEZ | E54: LIC. MA. IRENE GUADALUPE SERRANO RUIZ | I54: C.P. GABINO JIMENEZ SANTIAGO
A55: PRESIDENTE MUNICIPAL CONSTITUCIONAL | E55: SINDICO MUNICIPAL | I55: TESORERO MUNICIPAL

Sheet Mar
A2: =+Feb!A2:J2 -> MUNICIPIO DE XALTOCAN, TLAXCALA
A3: =+Feb!A3:J3 -> RFC: MXT850101V45
A4: =+Feb!A4:J4 -> ADMINISTRACION 2024-2027
A6: CONCILIACION BANCARIA DEL MES | G6: MARZO | H6: DEL | I6: =+Feb!I6:J6 -> 2026
A9: BANCO: | B9: =+Feb!B9 -> Santander | G9: SUCURSAL: | I9: =+Feb!I9 -> APIZACO
A10: PROGRAMA: | B10: =+Feb!B10 -> INGRESOS PROPIOS | G10: EJERCICIO: | I10: =+Feb!I10 -> 2026
A11: FONDO: | B11: =+Feb!B11 -> 1.01 | G11: No. DE CTA: | I11: =+Feb!I11 -> 18000362877
A14: SALDO SEGÚN AUXILIARES | E14: 0 | G14: SALDO SEGÚN ESTADO DE CUENTA | J14: 0
C16: MAS | E16: =SUM(E17:E21) -> 0 | I16: MAS | J16: =SUM(J17:J21) -> 0
A17: DEPOSITOS BANCARIOS NO CONSIDERADOS EN AUXILIARES | G17: DEPOSITOS BANCARIOS NO CONSIDERADOS POR EL BANCO | J17: 0
G18: TRANSFERENCIA DE FFM TRANSFERENCIA DE GIM PROGRAMAS | J18: 0
C22: MENOS | E22: =SUM(E23:E31) -> 0 | I22: MENOS | J22: =SUM(J23:J25) -> 0
A23: CARGOS DEL BANCO NO CONSIDERADOS EN AUXILIARES | G23: SALDO DE OTROS PROGRAMAS
A24: COMSIONES BANCARIAS | G24: REGISTRADOS EN LA CUENTA
I26: MENOS | J26: =SUM(J27:J70) -> 0
G27: CHEQUES EN CIRCULACIÓN
A72: SUMAS IGUALES - > > > > > | E72: =SUM(E14+E16-E22) -> 0 | J72: =J14+J16-J22-J26 -> 0
J74: =+J72-E72 -> 0
A76: MED. JOSE LUIS HERNANDEZ VAZQUEZ | E76: LIC. MA. IRENE GUADALUPE SERRANO RUIZ | I76: C.P. GABINO JIMENEZ SANTIAGO
A77: PRESIDENTE MUNICIPAL CONSTITUCIONAL | E77: SINDICO MUNICIPAL | I77: TESORERO MUNICIPAL

Sheet Abr
A2: =+Mar!A2:J2 -> MUNICIPIO DE XALTOCAN, TLAXCALA
A3: =+Mar!A3:J3 -> RFC: MXT850101V45
A4: =+Mar!A4:J4 -> ADMINISTRACION 2024-2027
A6: CONCILIACION BANCARIA DEL MES | G6: ABRIL | H6: DEL | I6: =+Mar!I6:J6 -> 2026
A9: BANCO: | B9: =+Mar!B9 -> Santander | G9: SUCURSAL: | I9: =+Mar!I9 -> APIZACO
A10: PROGRAMA: | B10: =+Mar!B10 -> INGRESOS PROPIOS | G10: EJERCICIO: | I10: =+Mar!I10 -> 2026
A11: FONDO: | B11: =+Mar!B11 -> 1.01 | G11: No. DE CTA: | I11: =+Mar!I11 -> 18000362877
A14: SALDO SEGÚN AUXILIARES | E14: 0 | G14: SALDO SEGÚN ESTADO DE CUENTA | J14: 0
C16: MAS | E16: =SUM(E17:E21) -> 0 | I16: MAS | J16: =SUM(J17:J21) -> 0
A17: DEPOSITOS BANCARIOS NO CONSIDERADOS EN AUXILIARES | G17: DEPOSITOS BANCARIOS NO CONSIDERADOS POR EL BANCO | J17: 0
G18: TRANSFERENCIA DE FFM TRANSFERENCIA DE GIM PROGRAMAS | J18: 0
C22: MENOS | E22: =SUM(E23:E35) -> 0 | I22: MENOS | J22: =SUM(J23:J25) -> 0
A23: CARGOS DEL BANCO NO CONSIDERADOS EN AUXILIARES | G23: SALDO DE OTROS PROGRAMAS
A24: COMSIONES BANCARIAS | G24: REGISTRADOS EN LA CUENTA
I26: MENOS | J26: =SUM(J27:J128) -> 0
G27: CHEQUES EN CIRCULACIÓN
H30: 90 | K30: 6612
H31: 191 | K31: 5000
H32: 202 | K32: 5000 | M32: =+J32+K32-L32 -> 5000
H33: 203 | K33: 5000 | M33: =+J33+K33-L33 -> 5000
H34: 204 | K34: 5000 | M34: =+J34+K34-L34 -> 5000
H35: 205 | K35: 2500 | M35: =+J35+K35-L35 -> 2500
H37: 207 | K37: 5000 | M37: =+J37+K37-L37 -> 5000
H39: 209 | K39: 3300 | M39: =+J39+K39-L39 -> 3300
H40: 210 | K40: 5000 | M40: =+J40+K40-L40 -> 5000
H41: 211 | K41: 5000 | M41: =+J41+K41-L41 -> 5000
H42: 212 | K42: 3000 | M42: =+J42+K42-L42 -> 3000
H43: 213 | K43: 3200 | M43: =+J43+K43-L43 -> 3200
H44: 214 | K44: 3200 | M44: =+J44+K44-L44 -> 3200
H45: 215 | K45: 3000 | M45: =+J45+K45-L45 -> 3000
... H49: 219 | K49: 5000 | M49: =+J49+K49-L49 -> 5000
H50: 220 | M50: =+J50+K50-L50 -> 0
H51: 221 | M51: =+J51+K51-L51 -> 0
H52: 222 | K52: 2500 | M52: =+J52+K52-L52 -> 2500
H53: 223 | K53: 3500 | M53: =+J53+K53-L53 -> 3500
H54: 224 | K54: 5000 | M54: =+J54+K54-L54 -> 5000
H55: 225 | K55: 3090 | M55: =+J55+K55-L55 -> 3090
H56: 226 | K56: 3090 | M56: =+J56+K56-L56 -> 3090
H57: 227 | K57: 3090 | M57: =+J57+K57-L57 -> 3090
H58: 228 | K58: 3600 | M58: =+J58+K58-L58 -> 3600
...

Sheet May
A2: =+Abr!A2:J2 -> MUNICIPIO DE XALTOCAN, TLAXCALA
A3: =+Abr!A3:J3 -> RFC: MXT850101V45
A4: =+Abr!A4:J4 -> ADMINISTRACION 2024-2027
A6: CONCILIACION BANCARIA DEL MES | G6: MAYO | H6: DEL | I6: =+Abr!I6:J6 -> 2026
A9: BANCO: | B9: =+Abr!B9 -> Santander | G9: SUCURSAL: | I9: =+Abr!I9 -> APIZACO
A10: PROGRAMA: | B10: =+Abr!B10 -> INGRESOS PROPIOS | G10: EJERCICIO: | I10: =+Abr!I10 -> 2026
A11: FONDO: | B11: =+Abr!B11 -> 1.01 | G11: No. DE CTA: | I11: =+Abr!I11 -> 18000362877
A14: SALDO SEGÚN AUXILIARES | E14: 18906.77 | G14: SALDO SEGÚN ESTADO DE CUENTA | J14: 31906.77
C16: MAS | E16: =SUM(E17:E21) -> 0 | I16: MAS | J16: =SUM(J17:J21) -> 0
A17: DEPOSITOS BANCARIOS NO CONSIDERADOS EN AUXILIARES | G17: DEPOSITOS BANCARIOS NO CONSIDERADOS POR EL BANCO | J17: 0
G18: TRANSFERENCIA DE FFM TRANSFERENCIA DE GIM PROGRAMAS | J18: 0
C22: MENOS | E22: =SUM(E23:E31) -> 0 | I22: MENOS | J22: =SUM(J23:J25) -> 0
A23: CARGOS DEL BANCO NO CONSIDERADOS EN AUXILIARES | G23: SALDO DE OTROS PROGRAMAS
A24: COMSIONES BANCARIAS | G24: REGISTRADOS EN LA CUENTA
I26: MENOS | J26: =SUM(J27:J58) -> 13000
G27: CHEQUES EN CIRCULACIÓN
H28: 1 | K28: 3500 | L28: 3500 | M28: =+K28-L28 -> 0
H29: 2 | M29: =+K29-L29 -> 0
H30: 3 | K30: 800 | L30: 800 | M30: =+K30-L30 -> 0
H31: 4 | K31: 1500 | L31: 1500 | M31: =+K31-L31 -> 0
H32: 5 | K32: 1500 | L32: 1500 | M32: =+K32-L32 -> 0
H33: 6 | K33: 1000 | L33: 1000 | M33: =+K33-L33 -> 0
H34: 7 | K34: 5000 | L34: 5000 | M34: =+K34-L34 -> 0
H35: 8 | J35: 3500 | M35: =+K35-L35 -> 0
H36: 9 | M36: =+K36-L36 -> 0
H37: 10 | M37: =+K37-L37 -> 0
H38: 11 | J38: 3000 | M38: =+J38-L38 -> 3000
H39: 12 | K39: 3400 | M39: =+J39-L39 -> 0
H40: 13 | K40: 1200 | L40: 1200 | M40: =+K40-L40 -> 0
H41: 14 | K41: 1000 | L41: 1000 | M41: =+K41-L41 -> 0
H42: 15 | K42: 3000 | L42: 3000 | M42: =+K42-L42 -> 0
H43: 16 | K43: 1500 | L43: 1500 | M43: =+K43-L43 -> 0
H44: 17 | K44: 2100 | L44: 2100 | M44: =+K44-L44 -> 0
H45: 18 | K45: 3000 | L45: 3000 | M45: =+K45-L45 -> 0
H46: 19 | K46: 2000 | L46: 2000 | M46: =+K46-L46 -> 0
H47: 20 | K47: 4000 | L47: 4000 | M47: =+K47-L47 -> 0
H48: 21 | J48: 1200 | M48: =+K48-L48 -> 0
H49: 22 | K49: 5000 | L49: 5000 | M49: =+K49-L49 -> 0
H50: 23 | J50: 5000 | M50: =+K50-L50 -> 0
H51: 24 | J51: 300 | M51: =+K51-L51 -> 0
...

Sheet Jun
A2: =+May!A2:J2 -> MUNICIPIO DE XALTOCAN, TLAXCALA
A3: =+May!A3:J3 -> RFC: MXT850101V45
A4: =+May!A4:J4 -> ADMINISTRACION 2024-2027
A6: CONCILIACION BANCARIA DEL MES | G6: JUNIO | H6: DEL | I6: =+May!I6:J6 -> 2026
A9: BANCO: | B9: =+May!B9 -> Santander | G9: SUCURSAL: | I9: =+May!I9 -> APIZACO
A10: PROGRAMA: | B10: =+May!B10 -> INGRESOS PROPIOS | G10: EJERCICIO: | I10: =+May!I10 -> 2026
A11: FONDO: | B11: =+May!B11 -> 1.01 | G11: No. DE CTA: | I11: =+May!I11 -> 18000362877
A14: SALDO SEGÚN AUXILIARES | E14: 27581.15 | G14: SALDO SEGÚN ESTADO DE CUENTA | J14: 31081.15
C16: MAS | E16: =SUM(E17:E21) -> 0 | I16: MAS | J16: =SUM(J17:J21) -> 0
A17: DEPOSITOS BANCARIOS NO CONSIDERADOS EN AUXILIARES | G17: DEPOSITOS BANCARIOS NO CONSIDERADOS POR EL BANCO | J17: 0
G18: TRANSFERENCIA DE FFM TRANSFERENCIA DE GIM PROGRAMAS | J18: 0
C22: MENOS | E22: =SUM(E23:E31) -> 0 | I22: MENOS | J22: =SUM(J23:J25) -> 0
A23: CARGOS DEL BANCO NO CONSIDERADOS EN AUXILIARES | G23: SALDO DE OTROS PROGRAMAS
A24: COMSIONES BANCARIAS | G24: REGISTRADOS EN LA CUENTA
I26: MENOS | J26: =SUM(J27:J61) -> 3500
G27: CHEQUES EN CIRCULACIÓN
H28: 8 | J28: 3500
H29: 11 | K29: 3000
H30: 21 | K30: 1200
H31: 23 | K31: 5000
H32: 24 | K32: 300
H33: 25 | K33: 4000
H34: 26 | K34: 500
H35: 27 | K35: 4000
H36: 28 | K36: 3000
H37: 29 | K37: 3500
H38: 30 | K38: 5000
H39: 31
H40: 32 | K40: 300
H41: 33 | K41: 1000
H42: 34 | K42: 1000
A63: SUMAS IGUALES - > > > > > | E63: =SUM(E14+E16-E22) -> 27581.15 | J63: =J14+J16-J22-J26 -> 27581.15
J65: =+J63-E63 -> 0
A67: MED. JOSE LUIS HERNANDEZ VAZQUEZ | E67: LIC. MA. IRENE GUADALUPE SERRANO RUIZ | I67: C.P. GABINO JIMENEZ SANTIAGO
A68: PRESIDENTE MUNICIPAL CONSTITUCIONAL | E68: SINDICO MUNICIPAL | I68: TESORERO MUNICIPAL

Sheet Jul
A2: =+Jun!A2:J2 -> MUNICIPIO DE XALTOCAN, TLAXCALA
A3: =+Jun!A3:J3 -> RFC: MXT850101V45
A4: =+Jun!A4:J4 -> ADMINISTRACION 2024-2027
A6: CONCILIACION BANCARIA DEL MES | G6: JULIO | H6: DEL | I6: =+Jun!I6:J6 -> 2026
A9: BANCO: | B9: =+Jun!B9 -> Santander | G9: SUCURSAL: | I9: TLAXCALA
A10: PROGRAMA: | B10: =+Jun!B10 -> INGRESOS PROPIOS | G10: EJERCICIO: | I10: =+Jun!I10 -> 2026
A11: FONDO: | B11: =+Jun!B11 -> 1.01 | G11: No. DE CTA: | I11: =+Jun!I11 -> 18000362877
A14: SALDO SEGÚN AUXILIARES | E14: 34862.8 | G14: SALDO SEGÚN ESTADO DE CUENTA | J14: 38362.8
C16: MAS | E16: =SUM(E17:E21) -> 0 | I16: MAS | J16: =SUM(J17:J21) -> 0
A17: DEPOSITOS BANCARIOS NO CONSIDERADOS EN AUXILIARES | G17: DEPOSITOS BANCARIOS NO CONSIDERADOS POR EL BANCO | J17: 0
J18: 0
C22: MENOS | E22: =SUM(E23:E31) -> 0 | I22: MENOS | J22: =SUM(J23:J25) -> 0
A23: CARGOS DEL BANCO NO CONSIDERADOS EN AUXILIARES | G23: SALDO DE OTROS PROGRAMAS
A24: COMSIONES BANCARIAS | G24: REGISTRADOS EN LA CUENTA
I26: MENOS | J26: =SUM(J27:J61) -> 3500
G27: CHEQUES EN CIRCULACIÓN
H36: 8 | J36: 3500
H37: 35 | K37: 1300 | M37: 1300 | N37: =+K37-M37 -> 0
H38: 36 | K38: 1000 | M38: 1000 | N38: =+K38-M38 -> 0
H39: 37 | K39: 5000 | M39: 5000 | N39: =+K39-M39 -> 0
H40: 38 | M40: 0 | N40: =+K40-M40 -> 0
H41: 39 | N41: =+K41-M41 -> 0
H42: 40 | K42: 1300 | M42: 1300 | N42: =+K42-M42 -> 0
H43: 41 | K43: 5000 | M43: 5000 | N43: =+K43-M43 -> 0
H44: 42 | K44: 3000 | M44: 3000 | N44: =+K44-M44 -> 0
H45: 43 | N45: =+K45-M45 -> 0
H46: 44 | K46: 1500 | M46: 1500 | N46: =+K46-M46 -> 0
H47: 45 | K47: 1000 | M47: 1000 | N47: =+K47-M47 -> 0
H48: 46 | M48: 0 | N48: =+K48-M48 -> 0
H49: 47 | K49: 3500 | M49: 3500 | N49: =+K49-M49 -> 0
H50: 48 | K50: 2400 | M50: 2400 | N50: =+K50-M50 -> 0
H51: 49 | K51: 1500 | M51: 1500 | N51: =+K51-M51 -> 0
K52: =SUM(K37:K51) -> 26500
A63: SUMAS IGUALES - > > > > > | E63: =SUM(E14+E16-E22) -> 34862.8 | J63: =J14+J16-J22-J26 -> 34862.8
J65: =+J63-E63 -> 0
A67: MED. JOSE LUIS HERNANDEZ VAZQUEZ | E67: LIC. MA. IRENE GUADALUPE SERRANO RUIZ | I67: C.P. GABINO JIMENEZ SANTIAGO
A68: PRESIDENTE MUNICIPAL CONSTITUCIONAL | E68: SINDICO MUNICIPAL | I68: TESORERO MUNICIPAL

Sheet Ago
A2: =+Jul!A2:J2 -> MUNICIPIO DE XALTOCAN, TLAXCALA
A3: =+Jul!A3:J3 -> RFC: MXT850101V45
A4: =+Jul!A4:J4 -> ADMINISTRACION 2024-2027
A6: CONCILIACION BANCARIA DEL MES | G6: AGOSTO | H6: DEL | I6: =+Jul!I6:J6 -> 2026
A9: BANCO: | B9: =+Feb!B9 -> Santander | G9: SUCURSAL: | I9: TLAXCALA
A10: PROGRAMA: | B10: =+Feb!B10 -> INGRESOS PROPIOS | G10: EJERCICIO: | I10: =+Feb!I10 -> 2026
A11: FONDO: | B11: =+Feb!B11 -> 1.01 | G11: No. DE CTA: | I11: =+Feb!I11 -> 18000362877
A14: SALDO SEGÚN AUXILIARES | E14: 17185.82 | G14: SALDO SEGÚN ESTADO DE CUENTA | J14: 20685.82
C16: MAS | E16: =SUM(E17:E21) -> 0 | I16: MAS | J16: =SUM(J17:J21) -> 0
A17: DEPOSITOS BANCARIOS NO CONSIDERADOS EN AUXILIARES | G17: DEPOSITOS BANCARIOS NO CONSIDERADOS POR EL BANCO | J17: 0
G18: TRANSFERENCIA DE FFM TRANSFERENCIA DE GIM PROGRAMAS | J18: 0
C22: MENOS | E22: =SUM(E23:E31) -> 0 | I22: MENOS | J22: =SUM(J23:J25) -> 0
A23: CARGOS DEL BANCO NO CONSIDERADOS EN AUXILIARES | G23: SALDO DE OTROS PROGRAMAS
A24: COMSIONES BANCARIAS | G24: REGISTRADOS EN LA CUENTA
I26: MENOS | J26: =SUM(J27:J70) -> 3500
G27: CHEQUES EN CIRCULACIÓN
H28: 8 | J28: 3500
A72: SUMAS IGUALES - > > > > > | E72: =SUM(E14+E16-E22) -> 17185.82 | J72: =J14+J16-J22-J26 -> 17185.82
J74: =+J72-E72 -> 0
A76: MED. JOSE LUIS HERNANDEZ VAZQUEZ | E76: LIC. MA. IRENE GUADALUPE SERRANO RUIZ | I76: C.P. GABINO JIMENEZ SANTIAGO
A77: PRESIDENTE MUNICIPAL CONSTITUCIONAL | E77: SINDICO MUNICIPAL | I77: TESORERO MUNICIPAL

Sheet Sep
A2: =+Ago!A2:J2 -> MUNICIPIO DE XALTOCAN, TLAXCALA
A3: =+Ago!A3:J3 -> RFC: MXT850101V45
A4: =+Ago!A4:J4 -> ADMINISTRACION 2024-2027
A6: CONCILIACION BANCARIA DEL MES | G6: SEPTIEMBRE | H6: DEL | I6: =+Ago!I6:J6 -> 2026
A9: BANCO: | B9: =+Ago!B9 -> Santander | G9: SUCURSAL: | I9: TLAXCALA
A10: PROGRAMA: | B10: =+Ago!B10 -> INGRESOS PROPIOS | G10: EJERCICIO: | I10: =+Ago!I10 -> 2026
A11: FONDO: | B11: =+Ago!B11 -> 1.01 | G11: No. DE CTA: | I11: =+Ago!I11 -> 18000362877
A14: SALDO SEGÚN AUXILIARES | E14: 27815.11 | G14: SALDO SEGÚN ESTADO DE CUENTA | J14: 31315.11
C16: MAS | E16: =SUM(E17:E21) -> 0 | I16: MAS | J16: =SUM(J17:J21) -> 0
A17: DEPOSITOS BANCARIOS NO CONSIDERADOS EN AUXILIARES | G17: DEPOSITOS BANCARIOS NO CONSIDERADOS POR EL BANCO | J17: 0
G18: TRANSFERENCIA DE FFM TRANSFERENCIA DE GIM PROGRAMAS | J18: 0
C22: MENOS | E22: =SUM(E23:E29) -> 0 | I22: MENOS | J22: =SUM(J23:J25) -> 0
A23: CARGOS DEL BANCO NO CONSIDERADOS EN AUXILIARES | G23: SALDO DE OTROS PROGRAMAS
A24: COMSIONES BANCARIAS | G24: REGISTRADOS EN LA CUENTA
I26: MENOS | J26: =SUM(J27:J47) -> 3500
G27: CHEQUES EN CIRCULACIÓN
H28: 8 | J28: 3500
A49: SUMAS IGUALES - > > > > > | E49: =SUM(E14+E16-E22) -> 27815.11 | J49: =J14+J16-J22-J26 -> 27815.11 | K49: =SUM(K28:K46) -> 0
J51: =+J49-E49 -> 0
A53: MED. JOSE LUIS HERNANDEZ VAZQUEZ | E53: LIC. MA. IRENE GUADALUPE SERRANO RUIZ | I53: C.P. GABINO JIMENEZ SANTIAGO
A54: PRESIDENTE MUNICIPAL CONSTITUCIONAL | E54: SINDICO MUNICIPAL | I54: TESORERO MUNICIPAL

Sheet Hoja1

Sheet Hoja2

Sheet Oct
A2: =+Sep!A2:J2 -> MUNICIPIO DE XALTOCAN, TLAXCALA
A3: =+Sep!A3:J3 -> RFC: MXT850101V45
A4: =+Sep!A4:J4 -> ADMINISTRACION 2024-2027
A6: CONCILIACION BANCARIA DEL MES | G6: OCTUBRE | H6: DEL | I6: =+Sep!I6:J6 -> 2026
A9: BANCO: | B9: =+Sep!B9 -> Santander | G9: SUCURSAL: | I9: TLAXCALA
A10: PROGRAMA: | B10: =+Sep!B10 -> INGRESOS PROPIOS | G10: EJERCICIO: | I10: =+Sep!I10 -> 2026
A11: FONDO: | B11: =+Sep!B11 -> 1.01 | G11: No. DE CTA: | I11: =+Sep!I11 -> 18000362877
A14: SALDO SEGÚN AUXILIARES | E14: 0 | G14: SALDO SEGÚN ESTADO DE CUENTA | J14: 0
C16: MAS | E16: =SUM(E17:E21) -> 0 | I16: MAS | J16: =SUM(J17:J21) -> 0
A17: DEPOSITOS BANCARIOS NO CONSIDERADOS EN AUXILIARES | G17: DEPOSITOS BANCARIOS NO CONSIDERADOS POR EL BANCO | J17: 0
G18: TRANSFERENCIA DE FFM TRANSFERENCIA DE GIM PROGRAMAS | J18: 0
C22: MENOS | E22: =SUM(E23:E31) -> 0 | I22: MENOS | J22: =SUM(J23:J25) -> 0
A23: CARGOS DEL BANCO NO CONSIDERADOS EN AUXILIARES | G23: SALDO DE OTROS PROGRAMAS
A24: COMSIONES BANCARIAS | G24: REGISTRADOS EN LA CUENTA
I26: MENOS | J26: =SUM(J27:J46) -> 0
G27: CHEQUES EN CIRCULACIÓN
A48: SUMAS IGUALES - > > > > > | E48: =SUM(E14+E16-E22) -> 0 | J48: =J14+J16-J22-J26 -> 0
J50: =+J48-E48 -> 0
A52: MED. JOSE LUIS HERNANDEZ VAZQUEZ | E52: LIC. MA. IRENE GUADALUPE SERRANO RUIZ | I52: C.P. GABINO JIMENEZ SANTIAGO
A53: PRESIDENTE MUNICIPAL CONSTITUCIONAL | E53: SINDICO MUNICIPAL | I53: TESORERO MUNICIPAL

Sheet Nov
A2: =+Oct!A2:J2 -> MUNICIPIO DE XALTOCAN, TLAXCALA
A3: =+Oct!A3:J3 -> RFC: MXT850101V45
A4: =+Oct!A4:J4 -> ADMINISTRACION 2024-2027
A6: CONCILIACION BANCARIA DEL MES | G6: NOVIEMBRE | H6: DEL | I6: =+Oct!I6:J6 -> 2026
A9: BANCO: | B9: =+Oct!B9 -> Santander | G9: SUCURSAL: | I9: TLAXCALA
A10: PROGRAMA: | B10: =+Oct!B10 -> INGRESOS PROPIOS | G10: EJERCICIO: | I10: =+Oct!I10 -> 2026
A11: FONDO: | B11: =+Oct!B11 -> 1.01 | G11: No. DE CTA: | I11: =+Oct!I11 -> 18000362877
A14: SALDO SEGÚN AUXILIARES | E14: 0 | G14: SALDO SEGÚN ESTADO DE CUENTA | J14: 0
C16: MAS | E16: =SUM(E17:E21) -> 0 | I16: MAS | J16: =SUM(J17:J21) -> 0
A17: DEPOSITOS BANCARIOS NO CONSIDERADOS EN AUXILIARES | G17: DEPOSITOS BANCARIOS NO CONSIDERADOS POR EL BANCO | J17: 0
J18: 0
C22: MENOS | E22: =SUM(E23:E27) -> 0 | I22: MENOS | J22: =SUM(J23:J25) -> 0
A23: CARGOS DEL BANCO NO CONSIDERADOS EN AUXILIARES | G23: SALDO DE OTROS PROGRAMAS
A24: COMSIONES BANCARIAS | G24: REGISTRADOS EN LA CUENTA
I26: MENOS | J26: =SUM(J28:J77) -> 0
G27: CHEQUES EN CIRCULACIÓN
A79: SUMAS IGUALES - > > > > > | E79: =SUM(E14+E16-E22) -> 0 | J79: =J14+J16-J22-J26 -> 0
J81: =+J79-E79 -> 0
A83: MED. JOSE LUIS HERNANDEZ VAZQUEZ | E83: LIC. MA. IRENE GUADALUPE SERRANO RUIZ | I83: C.P. GABINO JIMENEZ SANTIAGO
A84: PRESIDENTE MUNICIPAL CONSTITUCIONAL | E84: SINDICO MUNICIPAL | I84: TESORERO MUNICIPAL

Sheet Dic
A2: =+Nov!A2:J2 -> MUNICIPIO DE XALTOCAN, TLAXCALA
A3: =+Nov!A3:J3 -> RFC: MXT850101V45
A4: =+Nov!A4:J4 -> ADMINISTRACION 2024-2027
A6: CONCILIACION BANCARIA DEL MES | G6: DICEMBRE | H6: DEL | I6: =+Nov!I6:J6 -> 2026
A9: BANCO: | B9: =+Nov!B9 -> Santander | G9: SUCURSAL: | I9: TLAXCALA
A10: PROGRAMA: | B10: =+Nov!B10 -> INGRESOS PROPIOS | G10: EJERCICIO: | I10: =+Nov!I10 -> 2026
A11: FONDO: | B11: =+Nov!B11 -> 1.01 | G11: No. DE CTA: | I11: =+Nov!I11 -> 18000362877
A14: SALDO SEGÚN AUXILIARES | E14: 0 | G14: SALDO SEGÚN ESTADO DE CUENTA | J14: 0
C16: MAS | E16: =SUM(E17:E21) -> 0 | I16: MAS | J16: =SUM(J17:J21) -> 0
A17: DEPOSITOS BANCARIOS NO CONSIDERADOS EN AUXILIARES | G17: DEPOSITOS BANCARIOS NO CONSIDERADOS POR EL BANCO | J17: 0
G18: TRANSFERENCIA DE FFM TRANSFERENCIA DE GIM PROGRAMAS | J18: 0
C22: MENOS | E22: =SUM(E23:E31) -> 0 | I22: MENOS | J22: =SUM(J23:J25) -> 0
A23: CARGOS DEL BANCO NO CONSIDERADOS EN AUXILIARES | E23: 0 | G23: SALDO DE OTROS PROGRAMAS
A24: COMSIONES BANCARIAS | G24: REGISTRADOS EN LA CUENTA
I26: MENOS | J26: =SUM(J27:J55) -> 0
G27: CHEQUES EN CIRCULACIÓN
A57: SUMAS IGUALES - > > > > > | E57: =SUM(E14+E16-E22) -> 0 | J57: =J14+J16-J22-J26 -> 0
J59: =+J57-E57 -> 0
A61: MED. JOSE LUIS HERNANDEZ VAZQUEZ | E61: LIC. MA. IRENE GUADALUPE SERRANO RUIZ | I61: C.P. GABINO JIMENEZ SANTIAGO
A62: PRESIDENTE MUNICIPAL CONSTITUCIONAL | E62: SINDICO MUNICIPAL | I62: TESORERO MUNICIPAL
