Workbook

Sheet Hoja1
B4: NOMBRE DEL ENTE FISCALIZABLE MUNICIPIO DE XALTOCAN TLAXCALA.
B5: CP-T-001
B6: VOLUMEN TRIMESTRAL DE LA CUENTA PÚBLICA EJERCICIO FISCAL: PRIMER TRIMESTRE
B8: INFORMACIÓN DOCUMENTAL Y ELECTRONICA
B9: TRIMESTRE/MES | C9: RECOPILADORES | D9: NOMBRE DEL TITULO DEL RECOPILADOR | E9: NO. DE FOLIOS | H9: ANEXO ELECTRONICO
E10: DE | F10: A | H10: CANTIDAD | I10: TAMAÑO KB, GB, MD, TB | J10: DESCRIPCIÓN GENERAL DE ARCHIVOS ELECTRONICOS
B12: TRIMESTRE: | C12: PRIMER ENERO - MARZO
B13: MES | C13: 1/3 | D13: INFORMACIÓN CONTABLE | E13: 1 | F13: 65 | H13: 1 | I13: 21480 KB
B14: ENERO | C14: 1/3 | D14: INFORMACIÓN PRESUPUESTARIA | E14: 1 | F14: 20 | I14: 5833 KB
C15: 1/3 | D15: INFORMACIÓN PROGRAMÁTICA | E15: 1 | F15: 6 | I15: 1791 KB
C16: 1/3 | D16: INFORMACIÓN FINANCIERA | E16: 1 | F16: 26 | I16: 8307 KB
C17: 1/3 | D17: INFORMACIÓN COMPLEMENTARIA | E17: 1 | F17: 504 | I17: 153097 KB
C18: 2/3 | D18: INFORMACIÓN COMPLEMENTARIA | E18: 505 | F18: 1035 | I18: 203232 KB
C19: 3/3 | D19: INFORMACIÓN COMPLEMENTARIA | E19: 1036 | F19: 1538 | I19: 175666 KB
B20: SUBTOTAL | C20: =SUM(C13:C19) -> 0 | F20: =+F13+F14+F15+F16+F19 -> 1655 | H20: 1
B21: MES | C21: 1/3 | D21: INFORMACIÓN CONTABLE | E21: 1 | F21: 64 | H21: 1 | I21: 21310 KB
B22: FEBRERO | C22: 1/3 | D22: INFORMACIÓN PRESUPUESTARIA | E22: 1 | F22: 20 | I22: 5801 KB
C23: 1/3 | D23: INFORMACIÓN PROGRAMÁTICA | E23: 1 | F23: 6 | I23: 1781 KB
C24: 1/3 | D24: INFORMACIÓN FINANCIERA | E24: 1 | F24: 26 | I24: 8194 KB
C25: 1/3 | D25: INFORMACIÓN COMPLEMENTARIA | E25: 1 | F25: 413 | I25: 120304 KB
C26: 2/3 | D26: INFORMACIÓN COMPLEMENTARIA | E26: 414 | F26: 964 | I26: 181755 KB
C27: 3/3 | D27: INFORMACIÓN COMPLEMENTARIA | E27: 965 | F27: 1478 | I27: 178502 KB
B28: SUBTOTAL | C28: =SUM(C21:C27) -> 0 | F28: =+F21+F22+F23+F24+F27 -> 1594 | H28: 1
B29: MES | C29: 1/3 | D29: INFORMACIÓN CONTABLE | E29: 1 | F29: 65 | H29: 1 | I29: 21452 KB
B30: MARZO | C30: 1/3 | D30: INFORMACIÓN PRESUPUESTARIA | E30: 1 | F30: 20 | I30: 5828 KB
C31: 1/3 | D31: INFORMACIÓN PROGRAMÁTICA | E31: 1 | F31: 6 | I31: 1792 KB
C32: 1/3 | D32: INFORMACIÓN FINANCIERA | E32: 1 | F32: 26 | I32: 8263 KB
C33: 1/3 | D33: INFORMACIÓN COMPLEMENTARIA | E33: 1 | F33: 428 | I33: 127073 KB
C34: 2/3 | D34: INFORMACIÓN COMPLEMENTARIA | E34: 429 | F34: 941 | I34: 165149 KB
C35: 3/3 | D35: INFORMACIÓN COMPLEMENTARIA | E35: 942 | F35: 1506 | I35: 194240 KB
B36: SUBTOTAL | C36: =SUM(C29:C35) -> 0 | F36: =+F29+F30+F31+F32+F35 -> 1623 | H36: 1
B38: INFORMACIÓN ADICIONAL
B39: TRIMESTRE/MES | C39: RECOPILADORES | D39: NOMBRE DEL TITULO DEL RECOPILADOR | E39: NO. DE FOLIOS | H39: ANEXO ELECTRONICO
E40: DE | F40: A | H40: CANTIDAD | I40: TAMAÑO KB, GB, MD, TB | J40: DESCRIPCIÓN GENERAL DE ARCHIVOS ELECTRONICOS
B41: PRIMER TRIMESTRE | C41: 2 | D41: I. PRONÓSTICO DE INGRESOS | E41: 1 | F41: 23 | H41: 2 | I41: 15780 KB
D42: II. CALENDARIZACIÓN MINISTRACIÓN DE RECURSOS | I42: 11376 KB
D43: III. PBR | E43: 24 | F43: 224 | I43: 76336 KB
D44: IV. ORGANIGRAMA GENERAL | E44: 225 | F44: 242 | I44: 14580 KB
D45: V. PLANTILLA DEL PERSONAL Y TABULADOR | E45: 243 | F45: 282 | I45: 12147 KB
D46: VI. MANUAL DE ORGANIZACIÓN | E46: 283 | F46: 341 | I46: 25446 KB
...

Sheet 3er Trimestre
B4: NOMBRE DEL ENTE FISCALIZABLE MUNICIPIO DE XALTOCAN TLAXCALA.
B5: CP-T-001
B6: VOLUMEN TRIMESTRAL DE LA CUENTA PÚBLICA EJERCICIO FISCAL: | H6: PRIMER TRIMESTRE | K6: 2026
B8: INFORMACIÓN DOCUMENTAL Y ELECTRONICA
B9: TRIMESTRE/MES | C9: RECOPILADORES | D9: NOMBRE DEL TITULO DEL RECOPILADOR | E9: NO. DE FOLIOS | H9: ANEXO ELECTRONICO
E10: DE | F10: A | H10: CANTIDAD | I10: TAMAÑO KB, GB, MD, TB | K10: DESCRIPCIÓN GENERAL DE ARCHIVOS ELECTRONICOS
B12: TRIMESTRE: | C12: =+H6 -> PRIMER TRIMESTRE
B13: MES | C13: 1/3 | D13: INFORMACIÓN CONTABLE | E13: 1 | F13: =+'CP-T-005 9 2026'!E24 -> 51 | H13: 43 | I13: =+'CP-T-005 7 2026'!F25 -> 14241 | J13: KB
B14: ENERO | C14: 1/3 | D14: INFORMACIÓN PRESUPUESTARIA | E14: 1 | F14: =+'CP-T-005 9 2026'!E36 -> 24 | I14: =+'CP-T-005 7 2026'!F37 -> 6238 | J14: KB
C15: 1/3 | D15: INFORMACIÓN PROGRAMÁTICA | E15: 1 | F15: =+'CP-T-005 9 2026'!E41 -> 6 | I15: =+'CP-T-005 7 2026'!F42 -> 1639 | J15: KB
C16: 1/3 | D16: INFORMACIÓN FINANCIERA LDF | E16: 1 | F16: =+'CP-T-005 9 2026'!E58 -> 26 | I16: =+'CP-T-005 7 2026'!F59 -> 7490 | J16: KB
C17: 1/3 | D17: INFORMACIÓN COMPLEMENTARIA | E17: 1 | F17: 376 | I17: =+'CP-T-005 7 2026'!F83 -> 354378 | J17: KB
C18: 2/3 | D18: INFORMACIÓN COMPLEMENTARIA | E18: =+F17+1 -> 377 | F18: 868
C19: 3/3 | D19: INFORMACIÓN COMPLEMENTARIA | E19: =+F18+1 -> 869 | F19: 1232
B20: SUBTOTAL | C20: 3 | F20: =+F13+F14+F15+F16+F19 -> 1339 | I20: =SUM(I13:I19) -> 383986 | J20: KB
B21: MES | C21: 1/3 | D21: INFORMACIÓN CONTABLE | E21: 1 | F21: =+'CP-T-005 8 2026'!E24 -> 49 | H21: 43 | I21: =+'CP-T-005 8 2026'!F25 -> 14411 | J21: KB
B22: FEBRERO | C22: 1/3 | D22: INFORMACIÓN PRESUPUESTARIA | E22: 1 | F22: 24 | I22: =+'CP-T-005 8 2026'!F37 -> 6350 | J22: KB
C23: 1/3 | D23: INFORMACIÓN PROGRAMÁTICA | E23: 1 | F23: =+'CP-T-005 8 2026'!E41 -> 6 | I23: =+'CP-T-005 8 2026'!F42 -> 1697 | J23: KB
C24: 1/3 | D24: INFORMACIÓN FINANCIERA | E24: 1 | F24: =+'CP-T-005 8 2026'!E58 -> 26 | I24: =+'CP-T-005 8 2026'!F59 -> 7509 | J24: KB
C25: 1/3 | D25: INFORMACIÓN COMPLEMENTARIA | E25: 1 | F25: 434 | I25: =+'CP-T-005 8 2026'!F83 -> 404565 | J25: KB
C26: 2/3 | D26: INFORMACIÓN COMPLEMENTARIA | E26: =+F25+1 -> 435 | F26: 1019
C27: 3/3 | D27: INFORMACIÓN COMPLEMENTARIA | E27: =+F26+1 -> 1020 | F27: 1419
B28: SUBTOTAL | C28: 3 | F28: =+F21+F22+F23+F24+F27 -> 1524 | I28: =SUM(I21:I27) -> 434532 | J28: KB
B29: MES | C29: 1/3 | D29: INFORMACIÓN CONTABLE | E29: 1 | F29: =+'CP-T-005 7 2026'!E24 -> 49 | H29: 43 | I29: =+'CP-T-005 9 2026'!F25 -> 14663 | J29: KB
B30: MARZO | C30: 1/3 | D30: INFORMACIÓN PRESUPUESTARIA | E30: 1 | F30: =+'CP-T-005 7 2026'!E36 -> 24 | I30: =+'CP-T-005 9 2026'!F37 -> 6252 | J30: KB
C31: 1/3 | D31: INFORMACIÓN PROGRAMÁTICA | E31: 1 | F31: 7 | I31: =+'CP-T-005 9 2026'!F42 -> 1656 | J31: KB
C32: 1/3 | D32: INFORMACIÓN FINANCIERA | E32: 1 | F32: =+'CP-T-005 7 2026'!E58 -> 26 | I32: =+'CP-T-005 9 2026'!F59 -> 7592 | J32: KB
C33: 1/3 | D33: INFORMACIÓN COMPLEMENTARIA | E33: 1 | F33: 453 | I33: =+'CP-T-005 9 2026'!F83 -> 345717 | J33: KB
C34: 2/3 | D34: INFORMACIÓN COMPLEMENTARIA | E34: =+F33+1 -> 454 | F34: 1060
C35: 3/3 | D35: INFORMACIÓN COMPLEMENTARIA | E35: =+F34+1 -> 1061 | F35: 1472
B36: SUBTOTAL | C36: 3 | F36: =+F29+F30+F31+F32+F35 -> 1578 | I36: =+'CP-T-005 7 2026'!F83 -> 354378 | J36: KB
B38: INFORMACIÓN ADICIONAL
B39: TRIMESTRE/MES | C39: RECOPILADORES | D39: NOMBRE DEL TITULO DEL RECOPILADOR | E39: NO. DE FOLIOS | H39: ANEXO ELECTRONICO
E40: DE | F40: A | H40: CANTIDAD | I40: TAMAÑO KB, GB, MD, TB | K40: DESCRIPCIÓN GENERAL DE ARCHIVOS ELECTRONICOS
B41: =+C12 -> PRIMER TRIMESTRE | C41: 1 | D41: I. PRONÓSTICO DE INGRESOS | E41: 1 | F41: 19 | H41: 15 | I41: 13011 | J41: KB
D42: I Bis. PRESUSPUESTO ANUAL DE EGRESOS
D43: II. CALENDARIZACIÓN MINISTRACIÓN DE RECURSOS | J43: KB
D44: III. PBR | E44: =+F41+1 -> 20 | F44: 232 | I44: 94296 | J44: KB
D45: IV. ORGANIGRAMA GENERAL | E45: =+F44+1 -> 233 | F45: 247 | I45: 9397 | J45: KB
D46: V. PLANTILLA DEL PERSONAL Y TABULADOR | E46: =+F45+1 -> 248 | F46: 279 | I46: 21579 | J46: KB
...

Sheet CP-T-005 7 2026
A1: CP-T-005
B2: INTEGRACIÓN DOCUMENTAL DE LAS CUENTAS PÚBLICAS
B3: I. Información contable, presupuestaria, programática, financiera, complementaria y adicional Julio
A5: Número de Recopilador | B5: Título del Recopilador | C5: Subtítulo del Recopilador | D5: Documental | F5: Electrónico
C6: / Contenido | D6: Folio inicial | E6: Folio Final | F6: Tamaño del Archivo
A7: 1 de “n” | B7: A). Información General | C7: I. Información contable, que genera el Sistema de Contabilidad Gubernamental:
A8: 0.33333333 | C8: a) Estado de actividades; | D8: 1 | E8: 2 | F8: 530 | G8: KB
C9: b) Estado de situación financiera; | D9: =+E8+1 -> 3 | E9: 4 | F9: 540 | G9: KB
C10: c) Estado de variación en la hacienda pública; | D10: 5 | E10: 6 | F10: 509 | G10: KB
C11: d) Estado de cambios en la situación financiera; | D11: 7 | E11: 8 | F11: 567 | G11: KB
C12: e) Estado de flujos de efectivo; | D12: 9 | E12: 11 | F12: 808 | G12: KB
C13: f) Informes sobre pasivos contingentes; | D13: 12 | E13: 12 | F13: 200 | G13: KB
C14: g) Notas a los estados financieros; | D14: 13 | E14: 44 | F14: =+F15+F16+F17 -> 9907 | G14: KB
C15: Notas de Gestión Administrativa | F15: 6086
C16: Notas a los estados Financieros | F16: 3215
C17: Notas de Memoria | F17: 606
C18: h) Estado analítico del activo; | D18: 45 | E18: 46 | F18: 471 | G18: KB
C19: i) Estado analítico de la deuda, del cual se derivarán las siguientes clasificaciones: | D19: 47 | E19: 47 | F19: =+F20 -> 268 | G19: KB
C20: 1). Corto y largo plazo; | F20: 268
C21: 2). Fuentes de | F21: 268
C22: financiamiento;
C23: j) Endeudamiento neto, financiamiento menos amortización, e | D23: 48 | E23: 48 | F23: 220 | G23: KB
C24: k) Intereses de la deuda. | D24: 49 | E24: 49 | F24: 221 | G24: KB
F25: =SUM(F8:F14)+SUM(F18:F19)+SUM(F23:F24) -> 14241 | G25: KB
A26: (…numeración continua de recopiladores) | B26: A). Información General | C26: II. Información presupuestaria, que genera el Sistema de Contabilidad Gubernamental:
A27: 0.33333333 | C27: a) Estado analítico de ingresos, del que se derivará la presentación en clasificación económica por fuente de financiamiento y concepto, incluyendo los ingresos excedentes generados; | D27: 1 | E27: 3 | F27: 767 | G27: KB
C28: b) Estado analítico del ejercicio del presupuesto de egresos del que se derivarán las clasificaciones siguientes: | F28: =SUM(F29:F32) -> 2827 | G28: KB
C29: 1. Administrativa; | D29: 4 | E29: 7 | F29: 1086
C30: 2. Económica; | D30: 8 | E30: 8 | F30: 249
C31: 3. Por objeto del gasto, y | D31: 9 | E31: 11 | F31: 935
C32: 4. Funcional. | D32: 12 | E32: 13 | F32: 557
C33: El estado analítico del ejercicio del presupuesto de egresos deberá identificar los montos y adecuaciones presupuestarias y subejercicios por ramo y programa;
C34: c) Endeudamiento neto, financiamiento menos amortización, del que derivará la clasificación por su origen en interno y externo; | D34: 14 | E34: 14 | F34: 221 | G34: KB
C35: d) Intereses de la deuda, e | D35: 15 | E35: 15 | F35: 221 | G35: KB
C36: e) Un flujo de fondos que resuma todas las operaciones; | D36: 16 | E36: 24 | F36: 2202 | G36: KB
F37: =SUM(F27:F28)+SUM(F34:F36) -> 6238 | G37: KB
A38: (…numeración continua de recopiladores) | B38: A). Información General | C38: III. Información programática, que genera el Sistema de Contabilidad Gubernamental:
A39: 0.33333333 | C39: a) Gasto por categoría programática; | D39: 1 | E39: 2 | F39: 550 | G39: KB
C40: b) Programas y proyectos de inversión, e | D40: 3 | E40: 3 | F40: 204 | G40: KB
C41: c) Indicadores de resultados. | D41: 4 | E41: 6 | F41: 885 | G41: KB
...

Sheet CP-T-005 8 2026
A1: CP-T-005
B2: INTEGRACIÓN DOCUMENTAL DE LAS CUENTAS PÚBLICAS
B3: I. Información contable, presupuestaria, programática, financiera, complementaria y adicional AGOSTO
A5: Número de Recopilador | B5: Título del Recopilador | C5: Subtítulo del Recopilador | D5: Documental | F5: Electrónico
C6: / Contenido | D6: Folio inicial | E6: Folio Final | F6: Tamaño del Archivo
A7: 1 de “n” | B7: A). Información General | C7: I. Información contable, que genera el Sistema de Contabilidad Gubernamental:
A8: 0.33333333 | C8: a) Estado de actividades; | D8: 1 | E8: 2 | F8: 549 | G8: KB
C9: b) Estado de situación financiera; | D9: =+E8+1 -> 3 | E9: 4 | F9: 549 | G9: KB
C10: c) Estado de variación en la hacienda pública; | D10: 5 | E10: 6 | F10: 518 | G10: KB
C11: d) Estado de cambios en la situación financiera; | D11: 7 | E11: 8 | F11: 578 | G11: KB
C12: e) Estado de flujos de efectivo; | D12: 9 | E12: 11 | F12: 814 | G12: KB
C13: f) Informes sobre pasivos contingentes; | D13: 12 | E13: 12 | F13: 214 | G13: KB
C14: g) Notas a los estados financieros; | D14: 13 | E14: 44 | F14: =+F15+F16+F17 -> 9968 | G14: KB
C15: Notas de Gestión Administrativa | D15: 13 | E15: 22 | F15: 3184
C16: Notas a los estados Financieros | D16: 23 | E16: 42 | F16: 6171
C17: Notas de Memoria | D17: 43 | E17: 44 | F17: 613
C18: h) Estado analítico del activo; | D18: 45 | E18: 46 | F18: 521 | G18: KB
C19: i) Estado analítico de la deuda, del cual se derivarán las siguientes clasificaciones: | D19: 47 | E19: 47 | F19: =+F20 -> 270 | G19: KB
C20: 1). Corto y largo plazo; | F20: 270
C21: 2). Fuentes de | F21: 270
C22: financiamiento;
C23: j) Endeudamiento neto, financiamiento menos amortización, e | D23: 48 | E23: 48 | F23: 219 | G23: KB
C24: k) Intereses de la deuda. | D24: 49 | E24: 49 | F24: 211 | G24: KB
F25: =SUM(F8:F14)+SUM(F18:F19)+SUM(F23:F24) -> 14411 | G25: KB
A26: (…numeración continua de recopiladores) | B26: A). Información General | C26: II. Información presupuestaria, que genera el Sistema de Contabilidad Gubernamental:
A27: 0.33333333 | C27: a) Estado analítico de ingresos, del que se derivará la presentación en clasificación económica por fuente de financiamiento y concepto, incluyendo los ingresos excedentes generados; | D27: 1 | E27: 3 | F27: 781 | G27: KB
C28: b) Estado analítico del ejercicio del presupuesto de egresos del que se derivarán las clasificaciones siguientes: | D28: 4 | E28: 13 | F28: =SUM(F29:F32) -> 2885 | G28: KB
C29: 1. Administrativa; | D29: 4 | E29: 7 | F29: 1097
C30: 2. Económica; | D30: 8 | E30: 8 | F30: 262
C31: 3. Por objeto del gasto, y | D31: 9 | E31: 11 | F31: 959
C32: 4. Funcional. | D32: 12 | E32: 13 | F32: 567
C33: El estado analítico del ejercicio del presupuesto de egresos deberá identificar los montos y adecuaciones presupuestarias y subejercicios por ramo y programa;
C34: c) Endeudamiento neto, financiamiento menos amortización, del que derivará la clasificación por su origen en interno y externo; | D34: 14 | E34: 14 | F34: 236 | G34: KB
C35: d) Intereses de la deuda, e | D35: 15 | E35: 15 | F35: 231 | G35: KB
C36: e) Un flujo de fondos que resuma todas las operaciones; | D36: 16 | E36: 24 | F36: 2217 | G36: KB
F37: =SUM(F27:F28)+SUM(F34:F36) -> 6350 | G37: KB
A38: (…numeración continua de recopiladores) | B38: A). Información General | C38: III. Información programática, que genera el Sistema de Contabilidad Gubernamental:
A39: 0.33333333 | C39: a) Gasto por categoría programática; | D39: 1 | E39: 2 | F39: 563 | G39: KB
C40: b) Programas y proyectos de inversión, e | D40: 3 | E40: 3 | F40: 217 | G40: KB
C41: c) Indicadores de resultados. | D41: 4 | E41: 6 | F41: 917 | G41: KB
...

Sheet CP-T-005 9 2026
A1: CP-T-005
B2: INTEGRACIÓN DOCUMENTAL DE LAS CUENTAS PÚBLICAS
B3: I. Información contable, presupuestaria, programática, financiera, complementaria y adicional SEPTIEMBRE
A5: Número de Recopilador | B5: Título del Recopilador | C5: Subtítulo del Recopilador | D5: Documental | F5: Electrónico
C6: / Contenido | D6: Folio inicial | E6: Folio Final | F6: Tamaño del Archivo
A7: 1 de “n” | B7: A). Información General | C7: I. Información contable, que genera el Sistema de Contabilidad Gubernamental:
A8: 0.33333333 | C8: a) Estado de actividades; | D8: 1 | E8: 2 | F8: 528 | G8: KB
C9: b) Estado de situación financiera; | D9: =+E8+1 -> 3 | E9: 4 | F9: 549 | G9: KB
C10: c) Estado de variación en la hacienda pública; | D10: 5 | E10: 6 | F10: 512 | G10: KB
C11: d) Estado de cambios en la situación financiera; | D11: 7 | E11: 8 | F11: 570 | G11: KB
C12: e) Estado de flujos de efectivo; | D12: 9 | E12: 11 | F12: 806 | G12: KB
C13: f) Informes sobre pasivos contingentes; | D13: 12 | E13: 12 | F13: 197 | G13: KB
C14: g) Notas a los estados financieros; | D14: 13 | E14: =+E17 -> 46 | F14: =+F15+F16+F17 -> 10316 | G14: KB
C15: Notas de Gestión Administrativa | D15: 13 | E15: 22 | F15: 3161
C16: Notas a los estados Financieros | D16: 23 | E16: 44 | F16: 6544
C17: Notas de Memoria | D17: 45 | E17: 46 | F17: 611
C18: h) Estado analítico del activo; | D18: 47 | E18: 48 | F18: 489 | G18: KB
C19: i) Estado analítico de la deuda, del cual se derivarán las siguientes clasificaciones: | D19: 49 | E19: 49 | F19: =+F20 -> 263 | G19: KB
C20: 1). Corto y largo plazo; | F20: 263
C21: 2). Fuentes de | F21: 263
C22: financiamiento;
C23: j) Endeudamiento neto, financiamiento menos amortización, e | D23: 50 | E23: 50 | F23: 218 | G23: KB
C24: k) Intereses de la deuda. | D24: =+E23+1 -> 51 | E24: 51 | F24: 215 | G24: KB
F25: =SUM(F8:F14)+SUM(F18:F19)+SUM(F23:F24) -> 14663 | G25: KB
A26: (…numeración continua de recopiladores) | B26: A). Información General | C26: II. Información presupuestaria, que genera el Sistema de Contabilidad Gubernamental:
A27: 0.33333333 | C27: a) Estado analítico de ingresos, del que se derivará la presentación en clasificación económica por fuente de financiamiento y concepto, incluyendo los ingresos excedentes generados; | D27: 1 | E27: 3 | F27: 791 | G27: KB
C28: b) Estado analítico del ejercicio del presupuesto de egresos del que se derivarán las clasificaciones siguientes: | F28: =SUM(F29:F32) -> 2832 | G28: KB
C29: 1. Administrativa; | D29: 4 | E29: 7 | F29: 1094
C30: 2. Económica; | D30: 8 | E30: 8 | F30: 247
C31: 3. Por objeto del gasto, y | D31: 9 | E31: 11 | F31: 934
C32: 4. Funcional. | D32: 12 | E32: 13 | F32: 557
C33: El estado analítico del ejercicio del presupuesto de egresos deberá identificar los montos y adecuaciones presupuestarias y subejercicios por ramo y programa;
C34: c) Endeudamiento neto, financiamiento menos amortización, del que derivará la clasificación por su origen en interno y externo; | D34: 14 | E34: 14 | F34: 220 | G34: KB
C35: d) Intereses de la deuda, e | D35: 15 | E35: 15 | F35: 220 | G35: KB
C36: e) Un flujo de fondos que resuma todas las operaciones; | D36: 16 | E36: 24 | F36: 2189 | G36: KB
F37: =SUM(F27:F28)+SUM(F34:F36) -> 6252 | G37: KB
A38: (…numeración continua de recopiladores) | B38: A). Información General | C38: III. Información programática, que genera el Sistema de Contabilidad Gubernamental:
A39: 0.33333333 | C39: a) Gasto por categoría programática; | D39: 1 | E39: 2 | F39: 549 | G39: KB
C40: b) Programas y proyectos de inversión, e | D40: 3 | E40: 3 | F40: 207 | G40: KB
C41: c) Indicadores de resultados. | D41: 4 | E41: 6 | F41: 900 | G41: KB
...
